BEGIN:VCALENDAR
VERSION:2.0
PRODID:-//Association Neuchâteloise de Course d&#039;Orientation - ECPv6.0.5//NONSGML v1.0//EN
CALSCALE:GREGORIAN
METHOD:PUBLISH
X-WR-CALNAME:Association Neuchâteloise de Course d&#039;Orientation
X-ORIGINAL-URL:https://www.anco-ne.ch
X-WR-CALDESC:Events for Association Neuchâteloise de Course d&#039;Orientation
REFRESH-INTERVAL;VALUE=DURATION:PT1H
X-Robots-Tag:noindex
X-PUBLISHED-TTL:PT1H
BEGIN:VTIMEZONE
TZID:Europe/Zurich
BEGIN:DAYLIGHT
TZOFFSETFROM:+0100
TZOFFSETTO:+0200
TZNAME:CEST
DTSTART:20250330T010000
END:DAYLIGHT
BEGIN:STANDARD
TZOFFSETFROM:+0200
TZOFFSETTO:+0100
TZNAME:CET
DTSTART:20251026T010000
END:STANDARD
END:VTIMEZONE
BEGIN:VEVENT
DTSTART;TZID=Europe/Zurich:20250513T183000
DTEND;TZID=Europe/Zurich:20250513T200000
DTSTAMP:20260423T195214
CREATED:20250218T101321Z
LAST-MODIFIED:20250218T101550Z
UID:10000825-1747161000-1747166400@www.anco-ne.ch
SUMMARY:Entraînement de CO de l’ANCO – JE1 et JE2
DESCRIPTION:Entraînement de CO de l’ANCO – JE1 et JE2  au Communal de la Sagne \nCO en forêt \nHoraires : 18h30-20h \nMatériel : MONTRE\, boussole et SI (si vous en avez)\, Stylo\, gourde\, gobelet pour le goûter\, affaires de rechange si besoin
URL:https://www.anco-ne.ch/event/entrainement-de-co-de-lanco-je1-et-je2-2/
LOCATION:Le Communal – Chemin des Grillades
CATEGORIES:Entraînement
GEO:47.061496291961;6.8157447256055
END:VEVENT
BEGIN:VEVENT
DTSTART;TZID=Europe/Zurich:20250514T000000
DTEND;TZID=Europe/Zurich:20250514T000000
DTSTAMP:20260423T195214
CREATED:20250218T101059Z
LAST-MODIFIED:20250218T101059Z
UID:10000822-1747180800-1747180800@www.anco-ne.ch
SUMMARY:BCN Tour – Etape 4
DESCRIPTION:
URL:https://www.anco-ne.ch/event/bcn-tour-etape-4/
CATEGORIES:Entraînement
END:VEVENT
BEGIN:VEVENT
DTSTART;VALUE=DATE:20250517
DTEND;VALUE=DATE:20250518
DTSTAMP:20260423T195214
CREATED:20241115T193614Z
LAST-MODIFIED:20241115T193614Z
UID:10000759-1747440000-1747526399@www.anco-ne.ch
SUMMARY:2e Coupe NE 2025 - Chaumont
DESCRIPTION:Les informations suivent
URL:https://www.anco-ne.ch/event/2e-coupe-ne-2025-chaumont/
LOCATION:Chaumont haut du funiculaire
CATEGORIES:Coupe NE
GEO:47.027022;6.956868
END:VEVENT
BEGIN:VEVENT
DTSTART;VALUE=DATE:20250518
DTEND;VALUE=DATE:20250519
DTSTAMP:20260423T195214
CREATED:20250214T141346Z
LAST-MODIFIED:20250214T180010Z
UID:10000796-1747526400-1747612799@www.anco-ne.ch
SUMMARY:Relais UBOL 
DESCRIPTION:Relais UBOL  (activité de l’ANCO) \nLieu : Bôle (NE) / Carte : Plan-du-Bois \nType : relais à 3 \nOrganisateur : UBOL   (https://www.ubol.ch/)   Inscriptions à la course via ce site   Deadline : ?
URL:https://www.anco-ne.ch/event/relais-ubol-2/
LOCATION:Bôle\, Champ-Rond
CATEGORIES:Course
GEO:46.970653;6.83531
END:VEVENT
BEGIN:VEVENT
DTSTART;TZID=Europe/Zurich:20250520T183000
DTEND;TZID=Europe/Zurich:20250520T200000
DTSTAMP:20260423T195214
CREATED:20250221T111504Z
LAST-MODIFIED:20250221T111504Z
UID:10000857-1747765800-1747771200@www.anco-ne.ch
SUMMARY:Entraînement de CO de l’ANCO (NOJ + adultes) à Chassagne
DESCRIPTION:Entraînement de CO de l’ANCO (NOJ + adultes) à Chassagne\n\n\n\nThématique : choix de cheminements \nRDV pour les NOJ et ceux qui souhaitent une carte imprimée : mardi 18h30 \nInscription (pour avoir une carte imprimée) : Ici  \nPostes posés de mardi 18h à mercredi 16h. \nAnalyse de l’entraînement Livelox \nEntraîneur : Archibald
URL:https://www.anco-ne.ch/event/entrainement-de-co-de-lanco-noj-adultes-a-chassagne/
LOCATION:Chassagne – Rte Val de Travers/Rochefort\, Rochefort\, NE\, Suisse
CATEGORIES:Entraînement NOJ + adultes
GEO:46.972819;6.803572
END:VEVENT
BEGIN:VEVENT
DTSTART;TZID=Europe/Zurich:20250520T183000
DTEND;TZID=Europe/Zurich:20250520T200000
DTSTAMP:20260423T195214
CREATED:20250218T101818Z
LAST-MODIFIED:20250218T101818Z
UID:10000827-1747765800-1747771200@www.anco-ne.ch
SUMMARY:Entraînement de CO de l’ANCO – JE1 et JE2
DESCRIPTION:Entraînement de CO de l’ANCO – JE1 et JE2  à Chassagne (Rochefort) \nCO en forêt – LD \nHoraires : 18h30-20h \nMatériel : MONTRE\, boussole et SI (si vous en avez)\, Stylo\, gourde\, gobelet pour le goûter\, affaires de rechange si besoin
URL:https://www.anco-ne.ch/event/entrainement-de-co-de-lanco-je1-et-je2-4/
LOCATION:Chassagne – Rte Val de Travers/Rochefort\, Rochefort\, NE\, Suisse
CATEGORIES:Entraînement
GEO:46.972819;6.803572
END:VEVENT
BEGIN:VEVENT
DTSTART;TZID=Europe/Zurich:20250521T000000
DTEND;TZID=Europe/Zurich:20250521T000000
DTSTAMP:20260423T195214
CREATED:20250218T101119Z
LAST-MODIFIED:20250218T101119Z
UID:10000823-1747785600-1747785600@www.anco-ne.ch
SUMMARY:BCN Tour – Etape 5
DESCRIPTION:
URL:https://www.anco-ne.ch/event/bcn-tour-etape-5/
CATEGORIES:Entraînement
END:VEVENT
BEGIN:VEVENT
DTSTART;TZID=Europe/Zurich:20250527T183000
DTEND;TZID=Europe/Zurich:20250527T200000
DTSTAMP:20260423T195214
CREATED:20250221T111937Z
LAST-MODIFIED:20250221T111937Z
UID:10000858-1748370600-1748376000@www.anco-ne.ch
SUMMARY:Entraînement de CO de l’ANCO (NOJ + adultes) Sous la Corbière
DESCRIPTION:Entraînement de CO de l’ANCO (NOJ + adultes) Sous la Corbière\n\n\n\nThématique : relief \nRDV pour les NOJ et ceux qui souhaitent une carte imprimée : mardi 18h30 \nInscription (pour avoir une carte imprimée) : Ici  \nPostes posés de mardi 18h à mercredi 16h. \nAnalyse de l’entraînement Livelox \nEntraîneur : Archibald
URL:https://www.anco-ne.ch/event/entrainement-de-co-de-lanco-noj-adultes-sous-la-corbiere-4/
LOCATION:Sous la Corbière – Table des chasseurs
CATEGORIES:Entraînement NOJ + adultes
GEO:46.90891;6.55101
END:VEVENT
BEGIN:VEVENT
DTSTART;TZID=Europe/Zurich:20250527T183000
DTEND;TZID=Europe/Zurich:20250527T200000
DTSTAMP:20260423T195214
CREATED:20250218T101932Z
LAST-MODIFIED:20250218T101932Z
UID:10000828-1748370600-1748376000@www.anco-ne.ch
SUMMARY:Entraînement de CO de l’ANCO – JE1 et JE2
DESCRIPTION:Entraînement de CO de l’ANCO – JE1 et JE2  à Saint Sulpice\, Sous la Corbière \nCO en forêt – Relief \nHoraires : 18h30-20h \nMatériel : MONTRE\, boussole et SI (si vous en avez)\, Stylo\, gourde\, gobelet pour le goûter\, affaires de rechange si besoin
URL:https://www.anco-ne.ch/event/entrainement-de-co-de-lanco-je1-et-je2-5/
LOCATION:Sous la Corbière – Table des chasseurs
CATEGORIES:Entraînement
GEO:46.90891;6.55101
END:VEVENT
BEGIN:VEVENT
DTSTART;TZID=Europe/Zurich:20250528T000000
DTEND;TZID=Europe/Zurich:20250528T000000
DTSTAMP:20260423T195214
CREATED:20250218T101138Z
LAST-MODIFIED:20250218T101138Z
UID:10000824-1748390400-1748390400@www.anco-ne.ch
SUMMARY:BCN Tour – Etape 6
DESCRIPTION:
URL:https://www.anco-ne.ch/event/bcn-tour-etape-6/
CATEGORIES:Entraînement
END:VEVENT
BEGIN:VEVENT
DTSTART;VALUE=DATE:20250530
DTEND;VALUE=DATE:20250602
DTSTAMP:20260423T195214
CREATED:20250221T083048Z
LAST-MODIFIED:20250221T083048Z
UID:10000843-1748563200-1748822399@www.anco-ne.ch
SUMMARY:Sortie de l'ANCO - 3 jours du Haut-Jura
DESCRIPTION:Sortie de l’ANCO – 3 jours du Haut-Jura (activité de l’ANCO) \nLieu : Les Rousses (FRA) et environs \nType : sortie de club avec 3 courses et des activités annexes. Organisateurs de la sortie Alexandra W + Jakob \nOrganisateur des courses  : O’Jura  (https://3j.ojura.fr/)   Inscriptions à la course via ce site  Deadline : ? \nInscription à l’activité pour profiter du covoiturage entre membres. Date limite : une semaine avant l’événement. \nPrécédentes News sur le site du club : https://www.anco-ne.ch/sortie-de-lanco-2025/    https://www.anco-ne.ch/sortie-de-lanco-30-mai-1er-juin-2025/
URL:https://www.anco-ne.ch/event/sortie-de-lanco-3-jours-du-haut-jura/
CATEGORIES:Course
END:VEVENT
BEGIN:VEVENT
DTSTART;TZID=Europe/Zurich:20250603T183000
DTEND;TZID=Europe/Zurich:20250603T200000
DTSTAMP:20260423T195214
CREATED:20250221T112146Z
LAST-MODIFIED:20250221T112146Z
UID:10000859-1748975400-1748980800@www.anco-ne.ch
SUMMARY:Entraînement de CO de l’ANCO (NOJ + adultes) à Cernier
DESCRIPTION:Entraînement de CO de l’ANCO (NOJ + adultes) à Cernier\n\n\n\nThématique : sprint \nRDV pour les NOJ et ceux qui souhaitent une carte imprimée : mardi 18h30 \nInscription (pour avoir une carte imprimée) : Ici  \nPostes posés de mardi 18h à mercredi 16h. \nAnalyse de l’entraînement Livelox \nEntraîneur : Archibald
URL:https://www.anco-ne.ch/event/entrainement-de-co-de-lanco-noj-adultes-a-cernier/
LOCATION:Cernier – Parking Migros
CATEGORIES:Entraînement NOJ + adultes
GEO:47.058481492726;6.9025839772688
END:VEVENT
BEGIN:VEVENT
DTSTART;TZID=Europe/Zurich:20250604T140000
DTEND;TZID=Europe/Zurich:20250604T163000
DTSTAMP:20260423T195214
CREATED:20250218T102112Z
LAST-MODIFIED:20250218T102410Z
UID:10000830-1749045600-1749054600@www.anco-ne.ch
SUMMARY:Entraînement de CO de l’ANCO – JE1et JE2
DESCRIPTION:Entraînement de CO de l’ANCO – JE1 et JE2  à Cernier \nCO en ville \nHoraires : 14h-16h15/30 \nMatériel : MONTRE\, boussole et SI (si vous en avez)\, Stylo\, gourde\, gobelet pour le goûter\, affaires de rechange si besoin
URL:https://www.anco-ne.ch/event/entrainement-de-co-de-lanco-je1et-je2-19/
LOCATION:Cernier – Parking Migros
CATEGORIES:Entraînement
GEO:47.058481492726;6.9025839772688
END:VEVENT
BEGIN:VEVENT
DTSTART;TZID=Europe/Zurich:20250605T183000
DTEND;TZID=Europe/Zurich:20250605T200000
DTSTAMP:20260423T195214
CREATED:20250113T153151Z
LAST-MODIFIED:20250604T104619Z
UID:10000784-1749148200-1749153600@www.anco-ne.ch
SUMMARY:Intervalles ANCO (NOJ + adultes)
DESCRIPTION:Intervalles ANCO (NOJ + adultes) \nInscription obligatoire + programme détaillé ici  \nNb inscrits minimum : 3
URL:https://www.anco-ne.ch/event/intervalles-anco-noj-adultes-26/
LOCATION:Piste aux Geneveys-sur-Coffrane\, Les Geneveys-sur-Coffrane\, NE\, Suisse
CATEGORIES:Entraînement
GEO:47.010921;6.84944
END:VEVENT
BEGIN:VEVENT
DTSTART;TZID=Europe/Zurich:20250610T183000
DTEND;TZID=Europe/Zurich:20250610T200000
DTSTAMP:20260423T195214
CREATED:20250221T112353Z
LAST-MODIFIED:20250609T175132Z
UID:10000860-1749580200-1749585600@www.anco-ne.ch
SUMMARY:Entraînement de CO de l’ANCO (NOJ + adultes) au Chanet de Bevaix
DESCRIPTION:Entraînement de CO de l’ANCO (NOJ + adultes) au Chanet de Bevaix\n\n\n\nThématique : CO normale \nRDV pour les NOJ et ceux qui souhaitent une carte imprimée : mardi 18h30 \nInscription (pour avoir une carte imprimée) : Ici  \nPostes posés de dimanche soir à mercredi 16h. \nAnalyse de l’entraînement Livelox \nEntraîneur : Archibald
URL:https://www.anco-ne.ch/event/entrainement-de-co-de-lanco-noj-adultes-au-chanet-de-bevaix-3/
LOCATION:Chanet de Bevaix – Parking en dessous forestier
CATEGORIES:Entraînement NOJ + adultes
GEO:46.928998;6.79716
END:VEVENT
BEGIN:VEVENT
DTSTART;TZID=Europe/Zurich:20250611T140000
DTEND;TZID=Europe/Zurich:20250611T163000
DTSTAMP:20260423T195214
CREATED:20250218T102557Z
LAST-MODIFIED:20250606T110722Z
UID:10000831-1749650400-1749659400@www.anco-ne.ch
SUMMARY:Entraînement de CO de l’ANCO – JE1et JE2
DESCRIPTION:Entraînement de CO de l’ANCO – JE1 et JE2  au Chanet de Bevaix \nCO en forêt – Challenges toi sur un parcours de ta catégorie \nHoraires : 14h-16h15/30 \nMatériel : MONTRE\, boussole et SI (si vous en avez)\, Stylo\, gourde\, gobelet pour le goûter\, affaires de rechange si besoin
URL:https://www.anco-ne.ch/event/entrainement-de-co-de-lanco-je1et-je2-38/
LOCATION:Chanet de Bevaix – Parking en dessous forestier
CATEGORIES:Entraînement
GEO:46.928998;6.79716
END:VEVENT
BEGIN:VEVENT
DTSTART;TZID=Europe/Zurich:20250611T183000
DTEND;TZID=Europe/Zurich:20250611T200000
DTSTAMP:20260423T195214
CREATED:20250113T153233Z
LAST-MODIFIED:20250114T083334Z
UID:10000785-1749666600-1749672000@www.anco-ne.ch
SUMMARY:Intervalles ANCO (NOJ + adultes)
DESCRIPTION:Intervalles ANCO (NOJ + adultes) \nInscription obligatoire + programme détaillé ici  \nNb inscrits minimum : 3
URL:https://www.anco-ne.ch/event/intervalles-anco-noj-adultes-27/
LOCATION:Neuchatel – Parking jeunes rives
CATEGORIES:Entraînement
GEO:46.991872;6.937713
END:VEVENT
END:VCALENDAR