BEGIN:VCALENDAR
VERSION:2.0
PRODID:-//Association Neuchâteloise de Course d&#039;Orientation - ECPv6.0.5//NONSGML v1.0//EN
CALSCALE:GREGORIAN
METHOD:PUBLISH
X-ORIGINAL-URL:https://www.anco-ne.ch
X-WR-CALDESC:Events for Association Neuchâteloise de Course d&#039;Orientation
REFRESH-INTERVAL;VALUE=DURATION:PT1H
X-Robots-Tag:noindex
X-PUBLISHED-TTL:PT1H
BEGIN:VTIMEZONE
TZID:Europe/Zurich
BEGIN:DAYLIGHT
TZOFFSETFROM:+0100
TZOFFSETTO:+0200
TZNAME:CEST
DTSTART:20250330T010000
END:DAYLIGHT
BEGIN:STANDARD
TZOFFSETFROM:+0200
TZOFFSETTO:+0100
TZNAME:CET
DTSTART:20251026T010000
END:STANDARD
END:VTIMEZONE
BEGIN:VEVENT
DTSTART;VALUE=DATE:20250622
DTEND;VALUE=DATE:20250623
DTSTAMP:20260419T195835
CREATED:20250221T081739Z
LAST-MODIFIED:20250221T081739Z
UID:10000841-1750550400-1750636799@www.anco-ne.ch
SUMMARY:Sensler OL
DESCRIPTION:Sensler OL (activité de l’ANCO) \nLieu : ? (FR) / Carte : Galmwald \nType : classique \nOrganisateur : OLC Omström Sense  (https://www.omstrom.ch/)   Inscriptions à la course via ce site ou directement Picoevents  Deadline : ? \nInscription à l’activité pour profiter du covoiturage entre membres. Date limite : une semaine avant l’événement.
URL:https://www.anco-ne.ch/event/sensler-ol/
CATEGORIES:Course
END:VEVENT
END:VCALENDAR