BEGIN:VCALENDAR
VERSION:2.0
PRODID:-//Association Neuchâteloise de Course d&#039;Orientation - ECPv6.0.5//NONSGML v1.0//EN
CALSCALE:GREGORIAN
METHOD:PUBLISH
X-ORIGINAL-URL:https://www.anco-ne.ch
X-WR-CALDESC:Events for Association Neuchâteloise de Course d&#039;Orientation
REFRESH-INTERVAL;VALUE=DURATION:PT1H
X-Robots-Tag:noindex
X-PUBLISHED-TTL:PT1H
BEGIN:VTIMEZONE
TZID:Europe/Zurich
BEGIN:DAYLIGHT
TZOFFSETFROM:+0100
TZOFFSETTO:+0200
TZNAME:CEST
DTSTART:20250330T010000
END:DAYLIGHT
BEGIN:STANDARD
TZOFFSETFROM:+0200
TZOFFSETTO:+0100
TZNAME:CET
DTSTART:20251026T010000
END:STANDARD
END:VTIMEZONE
BEGIN:VEVENT
DTSTART;TZID=Europe/Zurich:20250611T140000
DTEND;TZID=Europe/Zurich:20250611T163000
DTSTAMP:20260423T170356
CREATED:20250218T102557Z
LAST-MODIFIED:20250606T110722Z
UID:10000831-1749650400-1749659400@www.anco-ne.ch
SUMMARY:Entraînement de CO de l’ANCO – JE1et JE2
DESCRIPTION:Entraînement de CO de l’ANCO – JE1 et JE2  au Chanet de Bevaix \nCO en forêt – Challenges toi sur un parcours de ta catégorie \nHoraires : 14h-16h15/30 \nMatériel : MONTRE\, boussole et SI (si vous en avez)\, Stylo\, gourde\, gobelet pour le goûter\, affaires de rechange si besoin
URL:https://www.anco-ne.ch/event/entrainement-de-co-de-lanco-je1et-je2-38/
LOCATION:Chanet de Bevaix – Parking en dessous forestier
CATEGORIES:Entraînement
GEO:46.928998;6.79716
END:VEVENT
BEGIN:VEVENT
DTSTART;TZID=Europe/Zurich:20250611T183000
DTEND;TZID=Europe/Zurich:20250611T200000
DTSTAMP:20260423T170356
CREATED:20250113T153233Z
LAST-MODIFIED:20250114T083334Z
UID:10000785-1749666600-1749672000@www.anco-ne.ch
SUMMARY:Intervalles ANCO (NOJ + adultes)
DESCRIPTION:Intervalles ANCO (NOJ + adultes) \nInscription obligatoire + programme détaillé ici  \nNb inscrits minimum : 3
URL:https://www.anco-ne.ch/event/intervalles-anco-noj-adultes-27/
LOCATION:Neuchatel – Parking jeunes rives
CATEGORIES:Entraînement
GEO:46.991872;6.937713
END:VEVENT
END:VCALENDAR